BEGIN:VCALENDAR
VERSION:2.0
PRODID:-//Westchester Multicultural Chamber - ECPv6.15.20//NONSGML v1.0//EN
CALSCALE:GREGORIAN
METHOD:PUBLISH
X-WR-CALNAME:Westchester Multicultural Chamber
X-ORIGINAL-URL:https://wmccnys.org
X-WR-CALDESC:Events for Westchester Multicultural Chamber
REFRESH-INTERVAL;VALUE=DURATION:PT1H
X-Robots-Tag:noindex
X-PUBLISHED-TTL:PT1H
BEGIN:VTIMEZONE
TZID:America/New_York
BEGIN:DAYLIGHT
TZOFFSETFROM:-0500
TZOFFSETTO:-0400
TZNAME:EDT
DTSTART:20240310T070000
END:DAYLIGHT
BEGIN:STANDARD
TZOFFSETFROM:-0400
TZOFFSETTO:-0500
TZNAME:EST
DTSTART:20241103T060000
END:STANDARD
BEGIN:DAYLIGHT
TZOFFSETFROM:-0500
TZOFFSETTO:-0400
TZNAME:EDT
DTSTART:20250309T070000
END:DAYLIGHT
BEGIN:STANDARD
TZOFFSETFROM:-0400
TZOFFSETTO:-0500
TZNAME:EST
DTSTART:20251102T060000
END:STANDARD
BEGIN:DAYLIGHT
TZOFFSETFROM:-0500
TZOFFSETTO:-0400
TZNAME:EDT
DTSTART:20260308T070000
END:DAYLIGHT
BEGIN:STANDARD
TZOFFSETFROM:-0400
TZOFFSETTO:-0500
TZNAME:EST
DTSTART:20261101T060000
END:STANDARD
END:VTIMEZONE
BEGIN:VEVENT
DTSTART;TZID=America/New_York:20250521T180000
DTEND;TZID=America/New_York:20250521T200000
DTSTAMP:20260424T090400
CREATED:20250505T182749Z
LAST-MODIFIED:20250505T182749Z
UID:9104-1747850400-1747857600@wmccnys.org
SUMMARY:May - Connections That Count
DESCRIPTION:WMCC May Event: Connections\, Resources\, and Growth StrategiesTuesday\, May 21\, 2025 | 6:00 PM – 8:00 PMPelham Manor\, 1023 Esplanade\, Pelham\, NY \nJoin the Westchester Multicultural Chamber (WMCC) for an action-packed evening designed to spark new connections\, provide valuable resources\, and share growth strategies for small businesses. \nEvent Highlights: \n\n\nBusiness Matchmaking Sessions:Speed networking with structured time slots (5–7 minutes)\, grouped by industry to create strategic partnerships. \n\n\nResource Fair:Meet local lenders\, legal advisors\, marketing consultants\, and government representatives from the Westchester County Office of Economic Development—all ready to provide advice\, resources\, and answers on the spot. \n\n\nSmall Business Spotlight:Hear 3 local entrepreneurs deliver quick\, dynamic 3-minute elevator pitches highlighting their businesses and services. \n\n\nLive Expert Panel / Fireside Chat:Topic: “Navigating Growth in a Competitive Market” Hear from an expert \n\n\nInteractive Tech Demo:Learn how AI tools like ChatGPT and Canva can boost your marketing\, operations\, and productivity with live demonstrations. \n\n\nDon’t miss this opportunity to connect\, learn\, and grow!We look forward to seeing you there.
URL:https://wmccnys.org/event/may-event/
LOCATION:PELHAM MANOR\, 1023 Esplanade\, Pelham\, NY\, 10461\, United States
END:VEVENT
END:VCALENDAR