BEGIN:VCALENDAR
VERSION:2.0
PRODID:-//Westchester Multicultural Chamber - ECPv6.15.20//NONSGML v1.0//EN
CALSCALE:GREGORIAN
METHOD:PUBLISH
X-ORIGINAL-URL:https://wmccnys.org
X-WR-CALDESC:Events for Westchester Multicultural Chamber
REFRESH-INTERVAL;VALUE=DURATION:PT1H
X-Robots-Tag:noindex
X-PUBLISHED-TTL:PT1H
BEGIN:VTIMEZONE
TZID:America/New_York
BEGIN:DAYLIGHT
TZOFFSETFROM:-0500
TZOFFSETTO:-0400
TZNAME:EDT
DTSTART:20240310T070000
END:DAYLIGHT
BEGIN:STANDARD
TZOFFSETFROM:-0400
TZOFFSETTO:-0500
TZNAME:EST
DTSTART:20241103T060000
END:STANDARD
BEGIN:DAYLIGHT
TZOFFSETFROM:-0500
TZOFFSETTO:-0400
TZNAME:EDT
DTSTART:20250309T070000
END:DAYLIGHT
BEGIN:STANDARD
TZOFFSETFROM:-0400
TZOFFSETTO:-0500
TZNAME:EST
DTSTART:20251102T060000
END:STANDARD
BEGIN:DAYLIGHT
TZOFFSETFROM:-0500
TZOFFSETTO:-0400
TZNAME:EDT
DTSTART:20260308T070000
END:DAYLIGHT
BEGIN:STANDARD
TZOFFSETFROM:-0400
TZOFFSETTO:-0500
TZNAME:EST
DTSTART:20261101T060000
END:STANDARD
END:VTIMEZONE
BEGIN:VEVENT
DTSTART;TZID=America/New_York:20250319T180000
DTEND;TZID=America/New_York:20250319T200000
DTSTAMP:20260424T122102
CREATED:20250213T153311Z
LAST-MODIFIED:20250220T153420Z
UID:9253-1742407200-1742414400@wmccnys.org
SUMMARY:Wise Women Conversation
DESCRIPTION:WMCC Presents: Wise Women—Stories of Strength and Success \nJoin the Westchester Multicultural Chamber this March as we honor the resilience\, wisdom\, and impact of three extraordinary women. These trailblazers have transformed their personal journeys into powerful tools for uplifting others\, breaking barriers\, and paving the way for future generations. \nBe inspired by their stories\, connect with like-minded professionals\, and celebrate the power of wisdom in action. This is more than an event—it’s a tribute to the women whose experiences have shaped communities and changed lives. \nDon’t miss this unforgettable evening of empowerment\, recognition\, and inspiration. RSVP now and be part of the celebration! \nName *Business Name *Email Address *Phone *Member Status *MemberNon-MemberAre you interested in Membership?YES\, I AMNOT AT THIS TIMENumber of Guest? *Guest NamesName On CardCredit / Debit Card *Mid-Summer FunTOTAL DUESubmit
URL:https://wmccnys.org/event/wise-women-conversation/
LOCATION:PELHAM MANOR\, 1023 Esplanade\, Pelham\, NY\, 10461\, United States
ATTACH;FMTTYPE=image/png:https://wmccnys.org/wp-content/uploads/2025/02/2025-FLYERS-1.png
END:VEVENT
END:VCALENDAR