BEGIN:VCALENDAR
VERSION:2.0
PRODID:-//Westchester Multicultural Chamber - ECPv6.15.20//NONSGML v1.0//EN
CALSCALE:GREGORIAN
METHOD:PUBLISH
X-WR-CALNAME:Westchester Multicultural Chamber
X-ORIGINAL-URL:https://wmccnys.org
X-WR-CALDESC:Events for Westchester Multicultural Chamber
REFRESH-INTERVAL;VALUE=DURATION:PT1H
X-Robots-Tag:noindex
X-PUBLISHED-TTL:PT1H
BEGIN:VTIMEZONE
TZID:America/New_York
BEGIN:DAYLIGHT
TZOFFSETFROM:-0500
TZOFFSETTO:-0400
TZNAME:EDT
DTSTART:20240310T070000
END:DAYLIGHT
BEGIN:STANDARD
TZOFFSETFROM:-0400
TZOFFSETTO:-0500
TZNAME:EST
DTSTART:20241103T060000
END:STANDARD
BEGIN:DAYLIGHT
TZOFFSETFROM:-0500
TZOFFSETTO:-0400
TZNAME:EDT
DTSTART:20250309T070000
END:DAYLIGHT
BEGIN:STANDARD
TZOFFSETFROM:-0400
TZOFFSETTO:-0500
TZNAME:EST
DTSTART:20251102T060000
END:STANDARD
BEGIN:DAYLIGHT
TZOFFSETFROM:-0500
TZOFFSETTO:-0400
TZNAME:EDT
DTSTART:20260308T070000
END:DAYLIGHT
BEGIN:STANDARD
TZOFFSETFROM:-0400
TZOFFSETTO:-0500
TZNAME:EST
DTSTART:20261101T060000
END:STANDARD
END:VTIMEZONE
BEGIN:VEVENT
DTSTART;TZID=America/New_York:20250212T180000
DTEND;TZID=America/New_York:20250212T200000
DTSTAMP:20260424T135038
CREATED:20250116T180059Z
LAST-MODIFIED:20250117T194828Z
UID:9097-1739383200-1739390400@wmccnys.org
SUMMARY:DEI: Empathy and Empowerment
DESCRIPTION:Join the Westchester Multicultural Chamber for an impactful event exploring Diversity\, Equity\, and Inclusion (DEI) through the lens of empathy. \nDiscover how fostering understanding and compassion can drive meaningful change in workplaces and communities. \nThis engaging session will provide actionable insights and strategies to build stronger\, more inclusive connections. Together\, let’s create spaces where everyone feels seen\, heard\, and valued. \nName *Business Name *Email Address *Phone *Member Status *MemberNon-MemberAre you interested in Membership?YES\, I AMNOT AT THIS TIMENumber of Guest? *Guest NamesName On CardCredit / Debit Card *Mid-Summer FunTOTAL DUESubmit
URL:https://wmccnys.org/event/dei-empathy-and-empowerment/
LOCATION:PELHAM MANOR\, 1023 Esplanade\, Pelham\, NY\, 10461\, United States
ATTACH;FMTTYPE=image/png:https://wmccnys.org/wp-content/uploads/2025/01/February.png
END:VEVENT
END:VCALENDAR