BEGIN:VCALENDAR
VERSION:2.0
PRODID:-//Westchester Multicultural Chamber - ECPv6.15.20//NONSGML v1.0//EN
CALSCALE:GREGORIAN
METHOD:PUBLISH
X-ORIGINAL-URL:https://wmccnys.org
X-WR-CALDESC:Events for Westchester Multicultural Chamber
REFRESH-INTERVAL;VALUE=DURATION:PT1H
X-Robots-Tag:noindex
X-PUBLISHED-TTL:PT1H
BEGIN:VTIMEZONE
TZID:America/New_York
BEGIN:DAYLIGHT
TZOFFSETFROM:-0500
TZOFFSETTO:-0400
TZNAME:EDT
DTSTART:20230312T070000
END:DAYLIGHT
BEGIN:STANDARD
TZOFFSETFROM:-0400
TZOFFSETTO:-0500
TZNAME:EST
DTSTART:20231105T060000
END:STANDARD
BEGIN:DAYLIGHT
TZOFFSETFROM:-0500
TZOFFSETTO:-0400
TZNAME:EDT
DTSTART:20240310T070000
END:DAYLIGHT
BEGIN:STANDARD
TZOFFSETFROM:-0400
TZOFFSETTO:-0500
TZNAME:EST
DTSTART:20241103T060000
END:STANDARD
BEGIN:DAYLIGHT
TZOFFSETFROM:-0500
TZOFFSETTO:-0400
TZNAME:EDT
DTSTART:20250309T070000
END:DAYLIGHT
BEGIN:STANDARD
TZOFFSETFROM:-0400
TZOFFSETTO:-0500
TZNAME:EST
DTSTART:20251102T060000
END:STANDARD
END:VTIMEZONE
BEGIN:VEVENT
DTSTART;TZID=America/New_York:20240321T180000
DTEND;TZID=America/New_York:20240321T193000
DTSTAMP:20260425T062928
CREATED:20240201T224247Z
LAST-MODIFIED:20240318T181519Z
UID:8709-1711044000-1711049400@wmccnys.org
SUMMARY:Women Shaping Cities
DESCRIPTION:“Join us for an inspiring evening as three dynamic female mayors share their extraordinary journeys to office\, paving the way for change and innovation in our cities. ‘Trailblazing Triumphs: A Mayoral Mosaic – Women Shaping Cities’ is an event that celebrates leadership\, resilience\, and the transformative power of women in local governance. Don’t miss the opportunity to be part of this empowering conversation!”
URL:https://wmccnys.org/event/women-shaping-cities/
LOCATION:KOKUM – INDIAN RESTAURANT\, 2 EASTCHESTER ROAD\, New Rochelle\, NY\, United States
END:VEVENT
END:VCALENDAR