BEGIN:VCALENDAR
VERSION:2.0
PRODID:-//Westchester Multicultural Chamber - ECPv6.15.20//NONSGML v1.0//EN
CALSCALE:GREGORIAN
METHOD:PUBLISH
X-ORIGINAL-URL:https://wmccnys.org
X-WR-CALDESC:Events for Westchester Multicultural Chamber
REFRESH-INTERVAL;VALUE=DURATION:PT1H
X-Robots-Tag:noindex
X-PUBLISHED-TTL:PT1H
BEGIN:VTIMEZONE
TZID:America/New_York
BEGIN:DAYLIGHT
TZOFFSETFROM:-0500
TZOFFSETTO:-0400
TZNAME:EDT
DTSTART:20220313T070000
END:DAYLIGHT
BEGIN:STANDARD
TZOFFSETFROM:-0400
TZOFFSETTO:-0500
TZNAME:EST
DTSTART:20221106T060000
END:STANDARD
BEGIN:DAYLIGHT
TZOFFSETFROM:-0500
TZOFFSETTO:-0400
TZNAME:EDT
DTSTART:20230312T070000
END:DAYLIGHT
BEGIN:STANDARD
TZOFFSETFROM:-0400
TZOFFSETTO:-0500
TZNAME:EST
DTSTART:20231105T060000
END:STANDARD
BEGIN:DAYLIGHT
TZOFFSETFROM:-0500
TZOFFSETTO:-0400
TZNAME:EDT
DTSTART:20240310T070000
END:DAYLIGHT
BEGIN:STANDARD
TZOFFSETFROM:-0400
TZOFFSETTO:-0500
TZNAME:EST
DTSTART:20241103T060000
END:STANDARD
END:VTIMEZONE
BEGIN:VEVENT
DTSTART;TZID=America/New_York:20230503T083000
DTEND;TZID=America/New_York:20230503T093000
DTSTAMP:20260425T221740
CREATED:20230411T143429Z
LAST-MODIFIED:20230501T153829Z
UID:6643-1683102600-1683106200@wmccnys.org
SUMMARY:Business Before Breakfast - Instagram
DESCRIPTION:Instagram as a marketing tool for your small business… \nJust think about the massive amounts of new products and services you’ve likely discovered on Instagram through paid social media ads or friends tagging brands you’ve never heard of in their posts. Of course\, social media connects us\, but what’s difficult is getting those connections to your most important business assets–your customers. \nAt the same time\, we know creating\, managing\, and maintaining an Instagram account is daunting. It takes significant time and consideration to make it work and drive sales. \nWith more than 25 million businesses actively using Instagram to market to their target audience\, it’s easy to see why so many people use the app to shop. In today’s instant-access retail world\, shoppers want visual content to help them make buying decisions. \n  \n  \nRegister for Event
URL:https://wmccnys.org/event/business-before-breakfast-instagram/
LOCATION:Virtual\, United States
ATTACH;FMTTYPE=image/jpeg:https://wmccnys.org/wp-content/uploads/2023/04/BBB-Instagram-1.jpg
ORGANIZER;CN="Charlene A Nixon":MAILTO:events@wmccnys.org
END:VEVENT
BEGIN:VEVENT
DTSTART;TZID=America/New_York:20230524T183000
DTEND;TZID=America/New_York:20230524T203000
DTSTAMP:20260425T221740
CREATED:20230127T233129Z
LAST-MODIFIED:20230517T140112Z
UID:6396-1684953000-1684960200@wmccnys.org
SUMMARY:W.I.S.E - MENTAL HEALTH
DESCRIPTION:A conversation with Westchester’s W.I.S.E. Women: a group of female thought leaders from multiple industries\, addressing topical issues. \n\n\n\n\n\nMental Illness & Substance Abuse: The Drug Crisis in Our Communities \n\n\nIs the US having a mental health crisis? Our discussion will touch on the connection between substance use disorders and mental illness\, and how these issues impact our community. The conversation will be led by Dr. Traci Gardner\, M.D.\, Chief Medical Officer at Children’s Village\, and Director of Inequities\, Antibias and Antiracism at NY Medical College \n\n\nThis is an in-person event\, but will be available via virtual link to those who can’t join in person. \n\n\nUse the form below to register.
URL:https://wmccnys.org/event/w-i-s-e-mental-health/
LOCATION:28 E. 1st Street\, Mount Vernon\, NY 10550\, 28 EAST 1ST. STREET\, MOUNT VERNON\, NY\, 10550\, United States
ATTACH;FMTTYPE=image/png:https://wmccnys.org/wp-content/uploads/2023/01/wise-mental-health.png
ORGANIZER;CN="Charlene A Nixon":MAILTO:events@wmccnys.org
END:VEVENT
BEGIN:VEVENT
DTSTART;TZID=America/New_York:20230531T180000
DTEND;TZID=America/New_York:20230531T190000
DTSTAMP:20260425T221740
CREATED:20230530T150038Z
LAST-MODIFIED:20230531T194456Z
UID:6770-1685556000-1685559600@wmccnys.org
SUMMARY:Meet the Lenders - Small Business Forum
DESCRIPTION:When you’re looking to start or grow a small business\, financing becomes critical. You’ll have various options\, including traditional bank loans\, lines of credit\, and small business grants. I’d appreciate it if you could research and compare these options to determine the best fit for your business. Remember to consider your credit score\, which can impact your financing prospects. Once you’ve secured funding\, it’s crucial to use it wisely and closely monitor your expenses to ensure your business thrives. \nFinancing your small business is directly related to your small business’s health.  Join us and learn more about how to get approved for a business loan! This event is free\, open to all\, and is sponsored by Tompkins Bank. \n\n 
URL:https://wmccnys.org/event/meet-the-lenders-small-business-forum/
LOCATION:Virtual\, United States
ATTACH;FMTTYPE=image/png:https://wmccnys.org/wp-content/uploads/2023/05/Meet-The-Lenders-Event-flier-2.png
ORGANIZER;CN="Charlene A Nixon":MAILTO:events@wmccnys.org
END:VEVENT
END:VCALENDAR