BEGIN:VCALENDAR
VERSION:2.0
PRODID:-//Westchester Multicultural Chamber - ECPv6.15.20//NONSGML v1.0//EN
CALSCALE:GREGORIAN
METHOD:PUBLISH
X-WR-CALNAME:Westchester Multicultural Chamber
X-ORIGINAL-URL:https://wmccnys.org
X-WR-CALDESC:Events for Westchester Multicultural Chamber
REFRESH-INTERVAL;VALUE=DURATION:PT1H
X-Robots-Tag:noindex
X-PUBLISHED-TTL:PT1H
BEGIN:VTIMEZONE
TZID:America/New_York
BEGIN:DAYLIGHT
TZOFFSETFROM:-0500
TZOFFSETTO:-0400
TZNAME:EDT
DTSTART:20240310T070000
END:DAYLIGHT
BEGIN:STANDARD
TZOFFSETFROM:-0400
TZOFFSETTO:-0500
TZNAME:EST
DTSTART:20241103T060000
END:STANDARD
BEGIN:DAYLIGHT
TZOFFSETFROM:-0500
TZOFFSETTO:-0400
TZNAME:EDT
DTSTART:20250309T070000
END:DAYLIGHT
BEGIN:STANDARD
TZOFFSETFROM:-0400
TZOFFSETTO:-0500
TZNAME:EST
DTSTART:20251102T060000
END:STANDARD
BEGIN:DAYLIGHT
TZOFFSETFROM:-0500
TZOFFSETTO:-0400
TZNAME:EDT
DTSTART:20260308T070000
END:DAYLIGHT
BEGIN:STANDARD
TZOFFSETFROM:-0400
TZOFFSETTO:-0500
TZNAME:EST
DTSTART:20261101T060000
END:STANDARD
END:VTIMEZONE
BEGIN:VEVENT
DTSTART;VALUE=DATE:20250416
DTEND;VALUE=DATE:20250417
DTSTAMP:20260424T121859
CREATED:20250324T223030Z
LAST-MODIFIED:20250326T232503Z
UID:9106-1744761600-1744847999@wmccnys.org
SUMMARY:Money - Marketing
DESCRIPTION:💸 APRIL SPOTLIGHT: MONEY + MARKETING 💼\nHow Tariffs & the Economy Are Hitting Home \nFrom the global stage to your storefront — tariffs\, inflation\, and shifting consumer habits are trickling down and affecting how we all do business. 📉 \nThis month\, we’re diving deep into how money moves\, how marketing must pivot\, and how YOU can stay ahead in a volatile economy. \n📢 Join us for real talk\, expert insight\, and multicultural community strategy. \n#WMCC #SmallBusinessStrong #MoneyMoves #MarketingMatters #TariffTalk #EconomicImpact #WestchesterBusiness \nName *Business Name *Email Address *Phone *Member Status *MemberNon-MemberAre you interested in Membership?YES\, I AMNOT AT THIS TIMENumber of Guest? *Guest NamesName On CardCredit / Debit Card *Mid-Summer FunTOTAL DUESubmit\n 
URL:https://wmccnys.org/event/money-marketing/
LOCATION:PELHAM MANOR\, 1023 Esplanade\, Pelham\, NY\, 10461\, United States
ATTACH;FMTTYPE=image/jpeg:https://wmccnys.org/wp-content/uploads/2025/03/Heading.jpg
END:VEVENT
END:VCALENDAR