BEGIN:VCALENDAR
VERSION:2.0
PRODID:-//Westchester Multicultural Chamber - ECPv6.15.20//NONSGML v1.0//EN
CALSCALE:GREGORIAN
METHOD:PUBLISH
X-ORIGINAL-URL:https://wmccnys.org
X-WR-CALDESC:Events for Westchester Multicultural Chamber
REFRESH-INTERVAL;VALUE=DURATION:PT1H
X-Robots-Tag:noindex
X-PUBLISHED-TTL:PT1H
BEGIN:VTIMEZONE
TZID:America/New_York
BEGIN:DAYLIGHT
TZOFFSETFROM:-0500
TZOFFSETTO:-0400
TZNAME:EDT
DTSTART:20230312T070000
END:DAYLIGHT
BEGIN:STANDARD
TZOFFSETFROM:-0400
TZOFFSETTO:-0500
TZNAME:EST
DTSTART:20231105T060000
END:STANDARD
BEGIN:DAYLIGHT
TZOFFSETFROM:-0500
TZOFFSETTO:-0400
TZNAME:EDT
DTSTART:20240310T070000
END:DAYLIGHT
BEGIN:STANDARD
TZOFFSETFROM:-0400
TZOFFSETTO:-0500
TZNAME:EST
DTSTART:20241103T060000
END:STANDARD
BEGIN:DAYLIGHT
TZOFFSETFROM:-0500
TZOFFSETTO:-0400
TZNAME:EDT
DTSTART:20250309T070000
END:DAYLIGHT
BEGIN:STANDARD
TZOFFSETFROM:-0400
TZOFFSETTO:-0500
TZNAME:EST
DTSTART:20251102T060000
END:STANDARD
END:VTIMEZONE
BEGIN:VEVENT
DTSTART;TZID=America/New_York:20241209T180000
DTEND;TZID=America/New_York:20241209T200000
DTSTAMP:20260424T182247
CREATED:20241105T170736Z
LAST-MODIFIED:20241121T212403Z
UID:8889-1733767200-1733774400@wmccnys.org
SUMMARY:JINGLE & MINGLE 2024 (Click Here to Register)
DESCRIPTION:WMCC Annual Jingle & Mingle \nCelebrate the season with us at the Westchester Multicultural Chamber’s Annual Jingle & Mingle! \nThis year’s gathering is dedicated to our valued supporters who’ve journeyed with us over the past three years. Join us for a warm night of holiday cheer\, meaningful connections\, and gratitude as we raise a toast to our shared achievements and exciting future ahead. \nI am unable to attend\, but would like to make a donation:  www.wmccnys.org/make-a-donation/ \nName *Business Name *Email Address *Phone *ATTENDINGYESHow Many Attending *Additional RSVP NamesDo you have a discount code? (Optional)Discount15% DiscountTOTAL DUECredit / Debit Card *Summer BrunchSubmit\n  \nBECOME A SPONSOR\nBe part of a transformative initiative that supports small business owners. By sponsoring Jingle & Mingle\, you’ll gain exposure to a diverse\, engaged audience while demonstrating your commitment to the industry. \nHere’s why partnering with us makes sense for your business: \n\nBrand Visibility: Amplify your reach with exposure to small business owners.\nCommunity Impact: Align your brand with a meaningful cause\, showcasing your commitment to supporting small business growth.\nNetworking Opportunities: Build valuable connections with industry leaders\, attendees\, and other sponsors.\nCustomizable Sponsorships: Select the sponsorship level that best aligns with your goals and budget for the greatest impact.\nIncreased Exposure: Once you sponsor\, we will also showcase your brand name and logo across our event promotions for additional visibility and recognition.\n\nGet started by filling out the form below! Name of Company/Organization *Contact Person *WebsiteEmail Address *Phone *Sponsorship AmountUSDCredit / Debit Card * Additional Comments or QuestionsSUBMIT
URL:https://wmccnys.org/event/jingle-mingle-2024-click-to-register/
LOCATION:Trattoria 632\, 623 Anderson Hill Road\, Purchase\, 10577\, United States
ATTACH;FMTTYPE=image/png:https://wmccnys.org/wp-content/uploads/2024/11/Green-Illustrative-Clean-Up-Day-Flyer-1.png
END:VEVENT
END:VCALENDAR