BEGIN:VCALENDAR
VERSION:2.0
PRODID:-//Westchester Multicultural Chamber - ECPv6.15.20//NONSGML v1.0//EN
CALSCALE:GREGORIAN
METHOD:PUBLISH
X-WR-CALNAME:Westchester Multicultural Chamber
X-ORIGINAL-URL:https://wmccnys.org
X-WR-CALDESC:Events for Westchester Multicultural Chamber
REFRESH-INTERVAL;VALUE=DURATION:PT1H
X-Robots-Tag:noindex
X-PUBLISHED-TTL:PT1H
BEGIN:VTIMEZONE
TZID:America/New_York
BEGIN:DAYLIGHT
TZOFFSETFROM:-0500
TZOFFSETTO:-0400
TZNAME:EDT
DTSTART:20230312T070000
END:DAYLIGHT
BEGIN:STANDARD
TZOFFSETFROM:-0400
TZOFFSETTO:-0500
TZNAME:EST
DTSTART:20231105T060000
END:STANDARD
BEGIN:DAYLIGHT
TZOFFSETFROM:-0500
TZOFFSETTO:-0400
TZNAME:EDT
DTSTART:20240310T070000
END:DAYLIGHT
BEGIN:STANDARD
TZOFFSETFROM:-0400
TZOFFSETTO:-0500
TZNAME:EST
DTSTART:20241103T060000
END:STANDARD
BEGIN:DAYLIGHT
TZOFFSETFROM:-0500
TZOFFSETTO:-0400
TZNAME:EDT
DTSTART:20250309T070000
END:DAYLIGHT
BEGIN:STANDARD
TZOFFSETFROM:-0400
TZOFFSETTO:-0500
TZNAME:EST
DTSTART:20251102T060000
END:STANDARD
END:VTIMEZONE
BEGIN:VEVENT
DTSTART;TZID=America/New_York:20240112T120000
DTEND;TZID=America/New_York:20240112T130000
DTSTAMP:20260425T110144
CREATED:20231218T184940Z
LAST-MODIFIED:20240108T212033Z
UID:8139-1705060800-1705064400@wmccnys.org
SUMMARY:AI and Your Business - Business Learning/Informational Event
DESCRIPTION:Topic: AI and Your Business \nToday\, we stand at the cusp of a technological revolution reshaping our industries’ very fabric.  Artificial Intelligence\, once a concept relegated to the pages of science fiction\, is now a tangible force driving change in businesses of all sizes\, from budding startups to colossal corporations.  Whether it’s optimizing supply changes for medium-sized enterprises or harnessing big data for global giants\, AI presents boundless opportunities.  As we delve into this topic\, let us explore how businesses\, irrespective of their scale\, can harness the power of AI to innovate\, grow\, and thrive in this ever-evolving digital age. \nThis event is presented by Taylor A. Khan –She has been helping companies adapt and grow in a changing world by specializing in marketing\, creative strategy\, and innovation. \nA copy of this event will be available to members in the Members Only Vault. \n\n 
URL:https://wmccnys.org/event/ai-and-your-business-business-learning-informational-event/
LOCATION:Virtual\, United States
END:VEVENT
END:VCALENDAR