BEGIN:VCALENDAR
VERSION:2.0
PRODID:-//Westchester Multicultural Chamber - ECPv6.15.20//NONSGML v1.0//EN
CALSCALE:GREGORIAN
METHOD:PUBLISH
X-WR-CALNAME:Westchester Multicultural Chamber
X-ORIGINAL-URL:https://wmccnys.org
X-WR-CALDESC:Events for Westchester Multicultural Chamber
REFRESH-INTERVAL;VALUE=DURATION:PT1H
X-Robots-Tag:noindex
X-PUBLISHED-TTL:PT1H
BEGIN:VTIMEZONE
TZID:America/New_York
BEGIN:DAYLIGHT
TZOFFSETFROM:-0500
TZOFFSETTO:-0400
TZNAME:EDT
DTSTART:20220313T070000
END:DAYLIGHT
BEGIN:STANDARD
TZOFFSETFROM:-0400
TZOFFSETTO:-0500
TZNAME:EST
DTSTART:20221106T060000
END:STANDARD
BEGIN:DAYLIGHT
TZOFFSETFROM:-0500
TZOFFSETTO:-0400
TZNAME:EDT
DTSTART:20230312T070000
END:DAYLIGHT
BEGIN:STANDARD
TZOFFSETFROM:-0400
TZOFFSETTO:-0500
TZNAME:EST
DTSTART:20231105T060000
END:STANDARD
BEGIN:DAYLIGHT
TZOFFSETFROM:-0500
TZOFFSETTO:-0400
TZNAME:EDT
DTSTART:20240310T070000
END:DAYLIGHT
BEGIN:STANDARD
TZOFFSETFROM:-0400
TZOFFSETTO:-0500
TZNAME:EST
DTSTART:20241103T060000
END:STANDARD
END:VTIMEZONE
BEGIN:VEVENT
DTSTART;TZID=America/New_York:20230629T180000
DTEND;TZID=America/New_York:20230629T200000
DTSTAMP:20260425T204300
CREATED:20230615T133802Z
LAST-MODIFIED:20230616T200039Z
UID:6845-1688061600-1688068800@wmccnys.org
SUMMARY:W.I.S.E. Mental Health - Phase II
DESCRIPTION:Westchester’s W.I.S.E. Women continue the conversation on mental health\, this time with a focus on resources and tools for those in crisis. This is an in-person event\, which will also be livestreamed on our Facebook page.
URL:https://wmccnys.org/event/w-i-s-e-mental-health-phase-ii/
LOCATION:28 E. 1st Street\, Mount Vernon\, NY 10550\, 28 EAST 1ST. STREET\, MOUNT VERNON\, NY\, 10550\, United States
CATEGORIES:Human Resources-Oriented Events,Small Business Programs, Events
ATTACH;FMTTYPE=image/png:https://wmccnys.org/wp-content/uploads/2023/06/wise-mental-health-2.png
ORGANIZER;CN="Charlene A Nixon":MAILTO:events@wmccnys.org
END:VEVENT
END:VCALENDAR