BEGIN:VCALENDAR
VERSION:2.0
PRODID:-//Westchester Multicultural Chamber - ECPv6.15.20//NONSGML v1.0//EN
CALSCALE:GREGORIAN
METHOD:PUBLISH
X-ORIGINAL-URL:https://wmccnys.org
X-WR-CALDESC:Events for Westchester Multicultural Chamber
REFRESH-INTERVAL;VALUE=DURATION:PT1H
X-Robots-Tag:noindex
X-PUBLISHED-TTL:PT1H
BEGIN:VTIMEZONE
TZID:America/New_York
BEGIN:DAYLIGHT
TZOFFSETFROM:-0500
TZOFFSETTO:-0400
TZNAME:EDT
DTSTART:20220313T070000
END:DAYLIGHT
BEGIN:STANDARD
TZOFFSETFROM:-0400
TZOFFSETTO:-0500
TZNAME:EST
DTSTART:20221106T060000
END:STANDARD
BEGIN:DAYLIGHT
TZOFFSETFROM:-0500
TZOFFSETTO:-0400
TZNAME:EDT
DTSTART:20230312T070000
END:DAYLIGHT
BEGIN:STANDARD
TZOFFSETFROM:-0400
TZOFFSETTO:-0500
TZNAME:EST
DTSTART:20231105T060000
END:STANDARD
BEGIN:DAYLIGHT
TZOFFSETFROM:-0500
TZOFFSETTO:-0400
TZNAME:EDT
DTSTART:20240310T070000
END:DAYLIGHT
BEGIN:STANDARD
TZOFFSETFROM:-0400
TZOFFSETTO:-0500
TZNAME:EST
DTSTART:20241103T060000
END:STANDARD
END:VTIMEZONE
BEGIN:VEVENT
DTSTART;TZID=America/New_York:20230625T110000
DTEND;TZID=America/New_York:20230625T130000
DTSTAMP:20260425T221732
CREATED:20230601T195443Z
LAST-MODIFIED:20230606T151028Z
UID:6815-1687690800-1687698000@wmccnys.org
SUMMARY:Summer Brunch at Caramoor
DESCRIPTION:Join us for Sunday Brunch at Caramoor Center for Music and the Arts This event features Lotus Threads\, couture bridal and evening gown designer. We’ll be serving light hors d’oeuvres\, wine\, and iced tea. Come mix and mingle! \nPlease register below.
URL:https://wmccnys.org/event/summer-brunch-at-the-caramoor/
LOCATION:Caramoor Center for Music and the Arts\, 149 Girdle Ridge Rd\, Katonah\, NY\, 10536
ATTACH;FMTTYPE=image/png:https://wmccnys.org/wp-content/uploads/2023/06/summer-brunch-6.25-3.png
ORGANIZER;CN="Charlene A Nixon":MAILTO:events@wmccnys.org
END:VEVENT
END:VCALENDAR