BEGIN:VCALENDAR
VERSION:2.0
PRODID:-//Westchester Multicultural Chamber - ECPv6.15.20//NONSGML v1.0//EN
CALSCALE:GREGORIAN
METHOD:PUBLISH
X-WR-CALNAME:Westchester Multicultural Chamber
X-ORIGINAL-URL:https://wmccnys.org
X-WR-CALDESC:Events for Westchester Multicultural Chamber
REFRESH-INTERVAL;VALUE=DURATION:PT1H
X-Robots-Tag:noindex
X-PUBLISHED-TTL:PT1H
BEGIN:VTIMEZONE
TZID:America/New_York
BEGIN:DAYLIGHT
TZOFFSETFROM:-0500
TZOFFSETTO:-0400
TZNAME:EDT
DTSTART:20220313T070000
END:DAYLIGHT
BEGIN:STANDARD
TZOFFSETFROM:-0400
TZOFFSETTO:-0500
TZNAME:EST
DTSTART:20221106T060000
END:STANDARD
BEGIN:DAYLIGHT
TZOFFSETFROM:-0500
TZOFFSETTO:-0400
TZNAME:EDT
DTSTART:20230312T070000
END:DAYLIGHT
BEGIN:STANDARD
TZOFFSETFROM:-0400
TZOFFSETTO:-0500
TZNAME:EST
DTSTART:20231105T060000
END:STANDARD
BEGIN:DAYLIGHT
TZOFFSETFROM:-0500
TZOFFSETTO:-0400
TZNAME:EDT
DTSTART:20240310T070000
END:DAYLIGHT
BEGIN:STANDARD
TZOFFSETFROM:-0400
TZOFFSETTO:-0500
TZNAME:EST
DTSTART:20241103T060000
END:STANDARD
END:VTIMEZONE
BEGIN:VEVENT
DTSTART;TZID=America/New_York:20230607T080000
DTEND;TZID=America/New_York:20230607T100000
DTSTAMP:20260425T221529
CREATED:20230531T194304Z
LAST-MODIFIED:20230602T212918Z
UID:6786-1686124800-1686132000@wmccnys.org
SUMMARY:Business Before Breakfast - AI & TikTok
DESCRIPTION:Looking to learn more about business marketing? You may be underutilizing some new tools! Join this virtual event to discover ways that using AI and TikTok could help boost your marketing efforts. \nThis event is free for our WMCC members\, and $5 for non-members. Register below!
URL:https://wmccnys.org/event/business-before-breakfast-ai-tiktok/
LOCATION:Virtual\, United States
ATTACH;FMTTYPE=image/png:https://wmccnys.org/wp-content/uploads/2023/05/ai-and-tiktok.png
ORGANIZER;CN="Charlene A Nixon":MAILTO:events@wmccnys.org
END:VEVENT
END:VCALENDAR